BEGIN:VCALENDAR
PRODID:-//Volksbühne im Großen Hirschgraben//NONSGML-Events//DE
VERSION:2.0
TZID:Europe/Berlin
METHOD:PUBLISH
BEGIN:VEVENT
UID:15681
CALSCALE:GREGORIAN
DTSTART:20260502T153000Z
DTSTAMP:20260421T121533Z
LOCATION:Volksbühne im Großen Hirschgraben\, 
SUMMARY:Abschlussveranstaltung des Lesefestivals "Frankfurt liest ein Buch 2026"
DESCRIPTION:Marie Luise Kaschnitz: »Gott und die Welt. Aufzeichnungen aus der Wi…
CREATED:20260108T134224Z
DTEND:20260502T163000Z
URL;VALUE=URI:https://volksbuehne.net/programm/abschlussveranstaltung-des-17-lesefestivals-frankfurt-liest-ein-buch-2026
END:VEVENT
END:VCALENDAR