BEGIN:VCALENDAR
PRODID:-//Volksbühne im Großen Hirschgraben//NONSGML-Events//DE
VERSION:2.0
TZID:Europe/Berlin
METHOD:PUBLISH
BEGIN:VEVENT
UID:15718
CALSCALE:GREGORIAN
DTSTART:20261122T150000Z
DTSTAMP:20260421T122142Z
LOCATION:Volksbühne im Großen Hirschgraben\, 
SUMMARY:Damals in Frankfurt CRIME #2
DESCRIPTION:…
CREATED:20260113T122806Z
DTEND:20261122T160000Z
URL;VALUE=URI:https://volksbuehne.net/programm/damals-in-frankfurt-crime-2-die-grosse-show-premiere
END:VEVENT
END:VCALENDAR