BEGIN:VCALENDAR
PRODID:-//Volksbühne im Großen Hirschgraben//NONSGML-Events//DE
VERSION:2.0
TZID:Europe/Berlin
METHOD:PUBLISH
BEGIN:VEVENT
UID:16176
CALSCALE:GREGORIAN
DTSTART:20260425T180000Z
DTSTAMP:20260425T185320Z
LOCATION:Volksbühne im Großen Hirschgraben\, 
SUMMARY:Lange Nacht der Museen am 25. April
DESCRIPTION:Unsere Mundartausstellung, unsere denkmalgeschützten Foyers und unse…
CREATED:20260421T115842Z
DTEND:20260424T200000Z
URL;VALUE=URI:https://volksbuehne.net/programm/nacht-der-museen-2026
END:VEVENT
END:VCALENDAR